BEGIN:VCALENDAR
VERSION:2.0
PRODID:-//hacksw/handcal//NONSGML v1.0//EN
BEGIN:VEVENT
DTSTAMP:20260703T080000Z
DTSTART:20260703T080000Z
DTEND:20260703T100000Z
SUMMARY:Bürgersprechstunde auf dem Wochenmarkt in Refrath (Marktplatz Dolmanstraße)
END:VEVENT
END:VCALENDAR
