BEGIN:VCALENDAR
VERSION:2.0
PRODID:-//hacksw/handcal//NONSGML v1.0//EN
BEGIN:VEVENT
DTSTAMP:20260701T080000Z
DTSTART:20260701T080000Z
DTEND:20260701T100000Z
SUMMARY:Bürgersprechstunde auf dem Wochenmarkt in Bergisch Gladbach (Stadtmitte)
END:VEVENT
BEGIN:VEVENT
DTSTAMP:20260702T080000Z
DTSTART:20260702T080000Z
DTEND:20260702T100000Z
SUMMARY:Bürgersprechstunde auf dem Wochenmarkt in Rösrath (Sülztalplatz)
END:VEVENT
BEGIN:VEVENT
DTSTAMP:20260703T080000Z
DTSTART:20260703T080000Z
DTEND:20260703T100000Z
SUMMARY:Bürgersprechstunde auf dem Wochenmarkt in Refrath (Marktplatz Dolmanstraße)
END:VEVENT
BEGIN:VEVENT
DTSTAMP:20260704T080000Z
DTSTART:20260704T080000Z
DTEND:20260704T100000Z
SUMMARY:Bürgersprechstunde auf dem Wochenmarkt in Hoffnungsthal (Hauptstraße 262)
END:VEVENT
END:VCALENDAR
